BEGIN:VCALENDAR
VERSION:2.0
PRODID:-//wp-events-plugin.com//6.6.4.4//EN
BEGIN:VEVENT
UID:14@poznancitylab.pl
DTSTART;TZID=Europe/Warsaw:20251016T150000
DTEND;TZID=Europe/Warsaw:20251016T170000
DTSTAMP:20251014T122947Z
URL:https://poznancitylab.pl/events/spotkanie-partnerow-ambasadorow-przeds
 tawicieli-miasta-poznania/
SUMMARY:Spotkanie Partnerów i Ambasadorów
DESCRIPTION:Trzecie w tym roku spotkanie w ramach projektu Poznań CityLab 
 z udziałem Partnerów\, Ambasadorów\, przedstawicieli Rady Miasta Poznan
 ia i zespołu PCL. Gościem specjalnym będzie Prezydent Jacek Jaśkowiak.
  Głos zabiorą także beyond.pl\, PCSS oraz nowa spółka AMUai.\n\nWydar
 zenie zamknięte dla Partnerów i Ambasadorów PCL.
END:VEVENT
BEGIN:VTIMEZONE
TZID:Europe/Warsaw
X-LIC-LOCATION:Europe/Warsaw
BEGIN:DAYLIGHT
DTSTART:20250330T030000
TZOFFSETFROM:+0100
TZOFFSETTO:+0200
TZNAME:CEST
END:DAYLIGHT
END:VTIMEZONE
END:VCALENDAR