BEGIN:VCALENDAR
VERSION:2.0
PRODID:-//wp-events-plugin.com//6.6.4.4//EN
BEGIN:VEVENT
UID:33@poznancitylab.pl
DTSTART;TZID=Europe/Warsaw;VALUE=DATE:20261203
DTEND;TZID=Europe/Warsaw;VALUE=DATE:20261204
DTSTAMP:20260410T093450Z
URL:https://poznancitylab.pl/events/spotkanie-partnerow-ambasadorow-pcl-or
 az-przedstawicieli-miasta-poznania-3/
SUMMARY:Spotkanie Partnerów\, Ambasadorów PCL oraz przedstawicieli Miasta
  Poznania
DESCRIPTION:
LOCATION:Międzynarodowe Targi Poznańskie\, Głogowska 14\, Poznań\, Pola
 nd
X-APPLE-STRUCTURED-LOCATION;VALUE=URI;X-ADDRESS=Głogowska 14\, Poznań\, P
 oland;X-APPLE-RADIUS=100;X-TITLE=Międzynarodowe Targi Poznańskie:geo:0,0
END:VEVENT
BEGIN:VTIMEZONE
TZID:Europe/Warsaw
X-LIC-LOCATION:Europe/Warsaw
BEGIN:STANDARD
DTSTART:20261025T020000
TZOFFSETFROM:+0200
TZOFFSETTO:+0100
TZNAME:CET
END:STANDARD
END:VTIMEZONE
END:VCALENDAR