BEGIN:VCALENDAR
VERSION:2.0
PRODID:-//wp-events-plugin.com//6.6.4.4//EN
BEGIN:VEVENT
UID:15@poznancitylab.pl
DTSTART;TZID=Europe/Warsaw;VALUE=DATE:20251104
DTEND;TZID=Europe/Warsaw;VALUE=DATE:20251107
DTSTAMP:20251030T104656Z
URL:https://poznancitylab.pl/events/smart-city-expo-world-congress-barcelo
 na/
SUMMARY:Smart City Expo World Congress Barcelona
DESCRIPTION:Smart City Expo World Congress to międzynarodowe spotkanie lid
 erów miast\, ekspertów i firm technologicznych poświęcone przyszłośc
 i miast oraz innowacjom miejskim. W dniach 4-6 listopada 2025 r. w Barcelo
 nie uczestnicy będą dyskutować o zrównoważonym rozwoju\, cyfrowej tra
 nsformacji i roli sztucznej inteligencji w kształtowaniu inteligentnych p
 rzestrzeni miejskich.\nNa wydarzenie wybiera się delegacja Poznań CityLa
 b wraz z partnerami\, by zaprezentować lokalne inicjatywy\, poznać najno
 wsze rozwiązania technologiczne oraz nawiązać współpracę z przedstaw
 icielami miast i firm z całego świata.
END:VEVENT
BEGIN:VTIMEZONE
TZID:Europe/Warsaw
X-LIC-LOCATION:Europe/Warsaw
BEGIN:STANDARD
DTSTART:20251026T020000
TZOFFSETFROM:+0200
TZOFFSETTO:+0100
TZNAME:CET
END:STANDARD
END:VTIMEZONE
END:VCALENDAR