BEGIN:VCALENDAR
VERSION:2.0
PRODID:-//wp-events-plugin.com//6.6.4.4//EN
BEGIN:VEVENT
UID:32@poznancitylab.pl
DTSTART;TZID=Europe/Warsaw;VALUE=DATE:20261103
DTEND;TZID=Europe/Warsaw;VALUE=DATE:20261106
DTSTAMP:20260410T093349Z
URL:https://poznancitylab.pl/events/smart-city-expo-barcelona/
SUMMARY:Smart City Expo Barcelona
DESCRIPTION:Wspólna delegacja Partnerów\, Ambasadorów\, oraz przedstawic
 ieli zespołu PCL na największych na świecie targach z obszaru Smart Cit
 y\n\n&nbsp\;\n\nPolskie Stoisko Narodowe z udziałem Poznań CityLab 
END:VEVENT
BEGIN:VTIMEZONE
TZID:Europe/Warsaw
X-LIC-LOCATION:Europe/Warsaw
BEGIN:STANDARD
DTSTART:20261025T020000
TZOFFSETFROM:+0200
TZOFFSETTO:+0100
TZNAME:CET
END:STANDARD
END:VTIMEZONE
END:VCALENDAR