BEGIN:VCALENDAR
VERSION:2.0
PRODID:-//wp-events-plugin.com//6.6.4.4//EN
BEGIN:VEVENT
UID:16@poznancitylab.pl
DTSTART;TZID=Europe/Warsaw;VALUE=DATE:20251124
DTEND;TZID=Europe/Warsaw;VALUE=DATE:20251126
DTSTAMP:20251030T112641Z
URL:https://poznancitylab.pl/events/protega/
SUMMARY:PROTEGA
DESCRIPTION:Targi PROTEGA 2025 – Poznań\, 24–25 listopada\n\nTargi PRO
 TEGA to wydarzenie poświęcone ochronie ludności\, obronie cywilnej i za
 rządzaniu kryzysowemu. Odbędą się 24–25 listopada 2025 r. na Między
 narodowych Targach Poznańskich. W programie znajdą się prezentacje nowo
 czesnych technologii\, sprzętu ratowniczego oraz panele eksperckie dla pr
 zedstawicieli służb\, samorządów i firm z sektora bezpieczeństwa. Pod
 czas targów Poznań CityLab zaprezentuje swoje stoisko.
LOCATION:Międzynarodowe Targi Poznańskie\, Głogowska 14\, Poznań\, Pola
 nd
X-APPLE-STRUCTURED-LOCATION;VALUE=URI;X-ADDRESS=Głogowska 14\, Poznań\, P
 oland;X-APPLE-RADIUS=100;X-TITLE=Międzynarodowe Targi Poznańskie:geo:0,0
END:VEVENT
BEGIN:VTIMEZONE
TZID:Europe/Warsaw
X-LIC-LOCATION:Europe/Warsaw
BEGIN:STANDARD
DTSTART:20251026T020000
TZOFFSETFROM:+0200
TZOFFSETTO:+0100
TZNAME:CET
END:STANDARD
END:VTIMEZONE
END:VCALENDAR