BEGIN:VCALENDAR
VERSION:2.0
PRODID:-//wp-events-plugin.com//6.6.4.4//EN
BEGIN:VEVENT
UID:17@poznancitylab.pl
DTSTART;TZID=Europe/Warsaw;VALUE=DATE:20251124
DTEND;TZID=Europe/Warsaw;VALUE=DATE:20251129
DTSTAMP:20251112T122228Z
URL:https://poznancitylab.pl/events/pozitive-techweek/
SUMMARY:Pozitive TechWeek
DESCRIPTION:Pozitive TechWeek – Poznań\nPozitive TechWeek to tygodniowy 
 cykl wydarzeń technologicznych\, obejmujący warsztaty\, spotkania i pane
 le dyskusyjne\, zakończony konferencją Pozitive Technologies. To inicjat
 ywa\, która integruje lokalne środowisko IT\, promuje innowacje i inspir
 uje do współpracy w obszarze nowych technologii.\nWięcej na: https://po
 zitive.tech/
END:VEVENT
BEGIN:VTIMEZONE
TZID:Europe/Warsaw
X-LIC-LOCATION:Europe/Warsaw
BEGIN:STANDARD
DTSTART:20251026T020000
TZOFFSETFROM:+0200
TZOFFSETTO:+0100
TZNAME:CET
END:STANDARD
END:VTIMEZONE
END:VCALENDAR