BEGIN:VCALENDAR
VERSION:2.0
PRODID:-//wp-events-plugin.com//6.6.4.4//EN
BEGIN:VEVENT
UID:18@poznancitylab.pl
DTSTART;TZID=Europe/Warsaw;VALUE=DATE:20251127
DTEND;TZID=Europe/Warsaw;VALUE=DATE:20251128
DTSTAMP:20251112T122057Z
URL:https://poznancitylab.pl/events/pozitive-tech/
SUMMARY:Pozitive Tech
DESCRIPTION:Pozitive Technologies – Poznań\nPozitive Technologies to kon
 ferencja poświęcona najnowszym trendom w IT i nowoczesnym technologiom\,
  takim jak sztuczna inteligencja\, cyberbezpieczeństwo\, dane czy rozwią
 zania chmurowe. Wydarzenie gromadzi specjalistów\, przedsiębiorców i pa
 sjonatów technologii\, tworząc przestrzeń do wymiany wiedzy i doświadc
 zeń.\nWięcej na: https://pozitive.tech/
END:VEVENT
BEGIN:VTIMEZONE
TZID:Europe/Warsaw
X-LIC-LOCATION:Europe/Warsaw
BEGIN:STANDARD
DTSTART:20251026T020000
TZOFFSETFROM:+0200
TZOFFSETTO:+0100
TZNAME:CET
END:STANDARD
END:VTIMEZONE
END:VCALENDAR