BEGIN:VCALENDAR
VERSION:2.0
PRODID:-//wp-events-plugin.com//6.6.4.4//EN
BEGIN:VEVENT
UID:20@poznancitylab.pl
DTSTART;TZID=Europe/Warsaw;VALUE=DATE:20251210
DTEND;TZID=Europe/Warsaw;VALUE=DATE:20251211
DTSTAMP:20251205T110321Z
URL:https://poznancitylab.pl/events/pmpiada/
SUMMARY:PMPIADA
DESCRIPTION:PMPIADA to unikatowe wydarzenie zrzeszające najlepszych Projec
 t Managerów w naszym kraju.\nInicjatywa ma charakter edukacyjny\, integru
 je i bawi\, a przede wszystkim umożliwia nieskrępowaną wymianę doświa
 dczeń. PMPIADA promuje ideę zarządzania projektami w profesjonalny spos
 ób\, zgodnie z zestawem najlepszych praktyk zebranych w PMBOK® Guide.\n\
 nWydarzenie opiera się o konkurs mówców\, Sztab merytorycznych Prelegen
 tów/-ek stanie do rywalizacji o najlepsze wystąpienie. Uczestnicy zostan
 ą zainspirowani sporą dawką informacji podaną w formie krótkich\, 18 
 minutowych\, wystąpień.\n\nOceną Prelegentów zajmie się eksperckie Ju
 ry\, a także sama publiczność.\n\nInnymi słowy: maksimum praktycznej i
  świeżej wiedzy podanej w atrakcyjny sposób\, zdrowa adrenalina i zaci
 ęta rywalizacja.
END:VEVENT
BEGIN:VTIMEZONE
TZID:Europe/Warsaw
X-LIC-LOCATION:Europe/Warsaw
BEGIN:STANDARD
DTSTART:20251026T020000
TZOFFSETFROM:+0200
TZOFFSETTO:+0100
TZNAME:CET
END:STANDARD
END:VTIMEZONE
END:VCALENDAR