BEGIN:VCALENDAR
VERSION:2.0
PRODID:-//wp-events-plugin.com//6.6.4.4//EN
BEGIN:VEVENT
UID:30@poznancitylab.pl
DTSTART;TZID=Europe/Warsaw;VALUE=DATE:20261005
DTEND;TZID=Europe/Warsaw;VALUE=DATE:20261007
DTSTAMP:20260410T093124Z
URL:https://poznancitylab.pl/events/local-trends-europejskie-forum-samorza
 dowe/
SUMMARY:Local Trends - Europejskie Forum Samorządowe
DESCRIPTION:Forum poświęcone innowacjom w samorządach\, polityce miejski
 ej i regionalnej oraz wymianie doświadczeń między przedstawicielami adm
 inistracji publicznej. Doskonała okazja do zaprezentowania rozwiązań sm
 art city i projektów wspierających rozwój lokalny.
LOCATION:Międzynarodowe Targi Poznańskie\, Głogowska 14\, Poznań\, Pola
 nd
X-APPLE-STRUCTURED-LOCATION;VALUE=URI;X-ADDRESS=Głogowska 14\, Poznań\, P
 oland;X-APPLE-RADIUS=100;X-TITLE=Międzynarodowe Targi Poznańskie:geo:0,0
END:VEVENT
BEGIN:VTIMEZONE
TZID:Europe/Warsaw
X-LIC-LOCATION:Europe/Warsaw
BEGIN:DAYLIGHT
DTSTART:20260329T030000
TZOFFSETFROM:+0100
TZOFFSETTO:+0200
TZNAME:CEST
END:DAYLIGHT
END:VTIMEZONE
END:VCALENDAR