BEGIN:VCALENDAR
VERSION:2.0
PRODID:-//wp-events-plugin.com//6.6.4.4//EN
BEGIN:VEVENT
UID:11@poznancitylab.pl
DTSTART;TZID=Europe/Warsaw;VALUE=DATE:20251013
DTEND;TZID=Europe/Warsaw;VALUE=DATE:20251015
DTSTAMP:20250903T103949Z
URL:https://poznancitylab.pl/events/local-trends-europejski-kongres-samorz
 adowy/
SUMMARY:Local Trends - Europejski Kongres Samorządowy
DESCRIPTION:Stoisko Poznań City Lab z udziałem Partnerów i Ambasadorów.
LOCATION:Międzynarodowe Targi Poznańskie\, Głogowska 14\, Poznań\, Pola
 nd
X-APPLE-STRUCTURED-LOCATION;VALUE=URI;X-ADDRESS=Głogowska 14\, Poznań\, P
 oland;X-APPLE-RADIUS=100;X-TITLE=Międzynarodowe Targi Poznańskie:geo:0,0
END:VEVENT
BEGIN:VTIMEZONE
TZID:Europe/Warsaw
X-LIC-LOCATION:Europe/Warsaw
BEGIN:DAYLIGHT
DTSTART:20250330T030000
TZOFFSETFROM:+0100
TZOFFSETTO:+0200
TZNAME:CEST
END:DAYLIGHT
END:VTIMEZONE
END:VCALENDAR