BEGIN:VCALENDAR
VERSION:2.0
PRODID:-//wp-events-plugin.com//6.6.4.4//EN
BEGIN:VEVENT
UID:12@poznancitylab.pl
DTSTART;TZID=Europe/Warsaw:20250905T110000
DTEND;TZID=Europe/Warsaw:20250905T153000
DTSTAMP:20250904T102656Z
URL:https://poznancitylab.pl/events/dostepne-opole-kierunek-prosty-jezyk/
SUMMARY:Dostępne Opole. Kierunek: Prosty język
DESCRIPTION:Prosty język z perspektywy pracownika. Rozmowa z przedstawicie
 lami podmiotów publicznych na temat doświadczeń zawodowych w upraszczan
 iu pism:\nPanel dyskusyjny z udziałem Michała Łakomskiego\, Dyrektora B
 iura Cyfryzacji i Cyberbezpieczeństwa\, Pełnomocnika Prezydenta ds. Smar
 t City.
LOCATION:Ratusz w Opolu\, ul. Rynek 1A (sala 312\, sala 311)\, Opole\, Pola
 nd
X-APPLE-STRUCTURED-LOCATION;VALUE=URI;X-ADDRESS=ul. Rynek 1A (sala 312\, sa
 la 311)\, Opole\, Poland;X-APPLE-RADIUS=100;X-TITLE=Ratusz w Opolu:geo:0,0
END:VEVENT
BEGIN:VTIMEZONE
TZID:Europe/Warsaw
X-LIC-LOCATION:Europe/Warsaw
BEGIN:DAYLIGHT
DTSTART:20250330T030000
TZOFFSETFROM:+0100
TZOFFSETTO:+0200
TZNAME:CEST
END:DAYLIGHT
END:VTIMEZONE
END:VCALENDAR